BEGIN:VCALENDAR
VERSION:2.0
PRODID:-//Eventin//Event Calendar//EN
CALSCALE:GREGORIAN
METHOD:PUBLISH
BEGIN:VEVENT
UID:09d3c394a45d2f4e93696d6bcfa8859e@femmepetaleflowers.co.za
SUMMARY:10 May 2026: Rooted in Her: A Mother’s Day at Femme Petalé
DESCRIPTION:A day to honour her\, hold her\, and gather around her\nDETAILS
 \n\nLocation: Femme Petalé Flower Farm (Pretoria East)\nDate: Mother’s D
 ay (Sunday\, 10 May 2026)\nMorning: 08h00 – 11h00 | R800 pp\nAfternoon: 1
 2h00 – 16h00 | R1200 pp\nFull Day Option Available\n\nSpaces are limited 
 to keep the experience intimate and meaningful.\nThis Mother’s Day… giv
 e her something she will actually feel.\nTime.Presence.A moment where she i
 s the one being held.\nSet beneath the trees\, surrounded by flowers and st
 illness\,Rooted in Her is a full-day experience designed to celebrate mothe
 rs in the most meaningful way — through rest\, nourishment\, beauty\, and
  connection.\n\nTHE MORNING: Rooted in Her\nA Wellness Morning for Mothers\
 n08h00 – 11h00 | R800 pp\nA gentle\, grounding start to her day…\nWhat 
 she’ll experience:\n\nA warm welcome with herbal floral iced tea or infus
 ed water\nA slow Pilates or yoga session under the trees\nFresh juice conti
 nental breakfast bar\nMimosas + floral tea tasting\nA beautiful gut health 
 & sourdough talk\nA natural makeup talk focused on enhancing her features s
 oftly\nA thoughtfully curated goody bag\n\n\nTHE AFTERNOON: The Garden Betw
 een Us\nA Mother’s Day Garden Gathering\n12h00 – 16h00 | R1200 pp\nThis
  is where everyone comes together…to celebrate her.\nThoughtfully curated
  tables.Soft music drifting through the garden.Laughter\, slow conversation
 s\, children running barefoot on the grass.\nThis is not rushed.This is not
  structured.This is a space to gather around mom.\n\nThe Experience Include
 s:\n\nA seasonal 3-course meal\nA beautifully styled garden setting\nLive a
 coustic music creating a soft\, joyful atmosphere\nLawn games and relaxed s
 paces for connection\n\n[gallery type="rectangular" ids="11485\,11482"]\nA 
 special way to bring everyone into the moment:\n\nMini dried flower posy ma
 king for mom\nPressed flower cards created with love\n“Plant a garden for
  mom” (take-home pots with seasonal seeds)\n\n\nA Special Gift for Mom\nE
 ach mother will receive a small\, thoughtful gift —a keepsake from the da
 y\, and a reminder of how deeply she is loved.\n\nWHO THIS IS FOR\nFor the 
 mom who gives endlessly and holds everything together…yet rarely gets a m
 oment that is just for her.\nFor the daughters\, sons\, partners\, and fami
 lies who want to say:“We see you. And today… this is for you.”\n 
LOCATION:Femme Petalé Flower Farm (Pretoria East)
DTSTAMP:20260420T114935Z
DTSTART:20260510T060000Z
DTEND:20260510T140000Z
END:VEVENT
END:VCALENDAR
